BEGIN:VCALENDAR
VERSION:2.0
PRODID:-//Spvgg Germania Schlaitdorf - ECPv6.15.18//NONSGML v1.0//EN
CALSCALE:GREGORIAN
METHOD:PUBLISH
X-WR-CALNAME:Spvgg Germania Schlaitdorf
X-ORIGINAL-URL:https://germania-schlaitdorf.de
X-WR-CALDESC:Veranstaltungen für Spvgg Germania Schlaitdorf
REFRESH-INTERVAL;VALUE=DURATION:PT1H
X-Robots-Tag:noindex
X-PUBLISHED-TTL:PT1H
BEGIN:VTIMEZONE
TZID:UTC
BEGIN:STANDARD
TZOFFSETFROM:+0000
TZOFFSETTO:+0000
TZNAME:UTC
DTSTART:20250101T000000
END:STANDARD
END:VTIMEZONE
BEGIN:VEVENT
DTSTART;TZID=UTC:20260502T143000
DTEND;TZID=UTC:20260502T183000
DTSTAMP:20260421T113324
CREATED:20260407T211801Z
LAST-MODIFIED:20260407T211915Z
UID:2058-1777732200-1777746600@germania-schlaitdorf.de
SUMMARY:Mountainbike Season Opening
DESCRIPTION:Am 2. Mai 2026 ist es endlich wieder soweit: Die Spvgg Germania Schlaitdorf eröffnet gemeinsam mit dem Hägatz Trail offiziell die Mountainbike-Saison! 🚵‍♂️ \nFreut euch auf einen actionreichen Tag rund ums Thema Bike – egal ob Einsteiger\, Fortgeschrittener oder Nachwuchsfahrer. Dieses Jahr gibt es ein besonderes Highlight: \n👉 Ein neuer Kinder-MTB-Parcours\, der für Spaß und Abenteuer bei den kleinen Bikern sorgt! \nZwischen 14:30 und 18:30 Uhr erwartet euch ein abwechslungsreiches Programm unter dem Motto „Music & Bike“. Genießt entspannte Beats\, spannende Trail-Momente und die besondere Atmosphäre im Wald. \nNatürlich ist auch für das leibliche Wohl bestens gesorgt: \n🍔 Essen und Getränke stehen für euch bereit – perfekt für eine Pause zwischen den Rides oder zum gemütlichen Ausklang. \nTreffpunkt ist an der Richard-Haug-Hütte\, bevor die Veranstaltung gegen 22:00 Uhr endet. \nKommt vorbei\, bringt eure Freunde und Familie mit und startet gemeinsam mit uns in die neue MTB-Saison!
URL:https://germania-schlaitdorf.de/veranstaltungen/mountainbike-season-opening/
LOCATION:Grillplatz Hägaz\, Schlaitdorf\, 72667\, Deutschland
ATTACH;FMTTYPE=image/jpeg:https://germania-schlaitdorf.de/wp-content/uploads/2026/04/266ed2d7-4aab-4c1c-b137-7cc9e0799eca.jpeg
END:VEVENT
BEGIN:VEVENT
DTSTART;TZID=UTC:20260514T103000
DTEND;TZID=UTC:20260514T180000
DTSTAMP:20260421T113324
CREATED:20260421T105907Z
LAST-MODIFIED:20260421T110111Z
UID:2063-1778754600-1778781600@germania-schlaitdorf.de
SUMMARY:Vatertags-Hocketse im Schaichtal
DESCRIPTION:Am 14. Mai 2026 lädt die Spvgg. Germania Schaitdorf e.V. herzlich zur traditionellen Vatertags-Hocketse am Wanderparkplatz Schaichtal ein. \nAb 10:30 Uhr erwartet euch ein gemütlicher Tag in idyllischer Umgebung – perfekt für einen Ausflug mit Familie\, Freunden oder der ganzen Wandergruppe. \nFreut euch auf unsere weit über die Region hinaus bekannten\, frisch geräucherten Forellen – ein echter Genuss und das Highlight unserer Hocketse! Dazu bieten wir leckere Spezialitäten vom Grill\, erfrischende Getränke sowie Kaffee und hausgemachten Kuchen. \nKommt vorbei\, genießt die entspannte Atmosphäre und verbringt gemeinsam ein paar schöne Stunden im Grünen. \nWir freuen uns auf euren Besuch! \n \n 
URL:https://germania-schlaitdorf.de/veranstaltungen/vatertags-hocketse-im-schaichtal/
LOCATION:Wanderparkplatz Schaichtal
ATTACH;FMTTYPE=image/jpeg:https://germania-schlaitdorf.de/wp-content/uploads/2026/04/54851b08-3b2c-41b1-9ef6-919082dc4817.jpeg
END:VEVENT
END:VCALENDAR